BEGIN:VCALENDAR
VERSION:2.0
PRODID:Events Booking
BEGIN:VEVENT
UID:69e8357f1b9e0
SUMMARY:250 Years Strong:Keeping Government by the People
DESCRIPTION:THIS EVENT IS SOLD OUT.
 Thank you to everyone who registered 
 for this special dinner event.Our goal is to educate and inform while enjo
 ying the company of fellow patriots!
 To be placed on a waiting list plea
 se call Anna at (360) 600-6668
 Thursday\, February 12thDinner Event
 Ba
 ttle Ground Event Center912 East Main StreetBattle Ground\,WA 986045:30 PM
  Check-in6:00 PM Program
LOCATION:912 East Main Street\, Battle Ground\, 98604 Washington\, United S
 tates
DTSTART:20260212T080000Z
DTSTAMP:20260105T030816Z
ORGANIZER;CN=Clark County Republican Women:MAILTO:noreply@clarkcountyrepubl
 icanwomen.org
GEO:45.781514;-122.527585
X-APPLE-STRUCTURED-LOCATION;VALUE=URI;X-ADDRESS=912 East Main Street\, Batt
 le Ground\, 98604 Washington\, United States;X-APPLE-RADIUS=72;X-TITLE=Bat
 tle Ground Events Center:45.781514;-122.527585
END:VEVENT
END:VCALENDAR