BEGIN:VCALENDAR
VERSION:2.0
PRODID:Events Booking
BEGIN:VEVENT
UID:69e5e2163abd1
SUMMARY:Gala on the Greens
DESCRIPTION:
LOCATION:605 39th St\, Washougal\, WA 98671
DTSTART:20260516T070000Z
DTSTAMP:20260306T100420Z
ORGANIZER;CN=Clark County Republican Women:MAILTO:noreply@clarkcountyrepubl
 icanwomen.org
GEO:45.580678;-122.329174
X-APPLE-STRUCTURED-LOCATION;VALUE=URI;X-ADDRESS=605 39th St\, Washougal\, W
 A 98671;X-APPLE-RADIUS=72;X-TITLE=Orchard Hills Golf & Country Club:45.580
 678;-122.329174
END:VEVENT
END:VCALENDAR